BEGIN:VCALENDAR
VERSION:2.0
PRODID:-//Mainz City Management e.V. - ECPv6.15.17.1//NONSGML v1.0//EN
CALSCALE:GREGORIAN
METHOD:PUBLISH
X-ORIGINAL-URL:https://innenstadt-mainz.de
X-WR-CALDESC:Veranstaltungen für Mainz City Management e.V.
REFRESH-INTERVAL;VALUE=DURATION:PT1H
X-Robots-Tag:noindex
X-PUBLISHED-TTL:PT1H
BEGIN:VTIMEZONE
TZID:Europe/Berlin
BEGIN:DAYLIGHT
TZOFFSETFROM:+0100
TZOFFSETTO:+0200
TZNAME:CEST
DTSTART:20250330T010000
END:DAYLIGHT
BEGIN:STANDARD
TZOFFSETFROM:+0200
TZOFFSETTO:+0100
TZNAME:CET
DTSTART:20251026T010000
END:STANDARD
BEGIN:DAYLIGHT
TZOFFSETFROM:+0100
TZOFFSETTO:+0200
TZNAME:CEST
DTSTART:20260329T010000
END:DAYLIGHT
BEGIN:STANDARD
TZOFFSETFROM:+0200
TZOFFSETTO:+0100
TZNAME:CET
DTSTART:20261025T010000
END:STANDARD
BEGIN:DAYLIGHT
TZOFFSETFROM:+0100
TZOFFSETTO:+0200
TZNAME:CEST
DTSTART:20270328T010000
END:DAYLIGHT
BEGIN:STANDARD
TZOFFSETFROM:+0200
TZOFFSETTO:+0100
TZNAME:CET
DTSTART:20271031T010000
END:STANDARD
END:VTIMEZONE
BEGIN:VEVENT
DTSTART;VALUE=DATE:20260426
DTEND;VALUE=DATE:20260427
DTSTAMP:20260425T235027
CREATED:20260205T090359Z
LAST-MODIFIED:20260205T090359Z
UID:4293-1777161600-1777247999@innenstadt-mainz.de
SUMMARY:Meile des Sports
DESCRIPTION:Meile des Sports Mainz – 26. April 2026\nAm Sonntag\, den 26. April 2026\, verwandelt sich die Mainzer Innenstadt in eine lebendige „Meile des Sports“. Das Event bringt Sport\, Bewegung und Gemeinschaft zusammen und lädt Besucherinnen und Besucher jeden Alters zum Mitmachen\, Entdecken und Zuschauen ein. \nBei der Meile des Sports in Mainz präsentieren sich zahlreiche Sportvereine\, Fitnessanbieter und Initiativen aus der Region. Von Mitmachaktionen über Vorführungen bis hin zu Informationsständen erhalten Interessierte einen vielseitigen Einblick in das sportliche Angebot der Stadt. Ob Teamsport\, Individualsport oder Gesundheit und Bewegung – hier steht die Vielfalt im Mittelpunkt. \nDie Veranstaltung richtet sich an Familien\, Kinder\, Jugendliche und Erwachsene\, die Lust auf Aktivität haben oder neue Sportarten kennenlernen möchten. Gleichzeitig sorgt das lebendige Stadtambiente für eine besondere Atmosphäre\, ergänzt durch Gastronomie\, Begegnungen und ein abwechslungsreiches Rahmenprogramm. \nDie Meile des Sports 2026 steht für Bewegung\, Motivation und ein aktives Stadtleben und ist ein fester Bestandteil der Mainzer Veranstaltungen im Frühjahr.
URL:https://innenstadt-mainz.de/event/meile-des-sports/
LOCATION:Mainzer Innenstadt
CATEGORIES:Frühlingssonntag
END:VEVENT
END:VCALENDAR