BEGIN:VCALENDAR
VERSION:2.0
PRODID:-//Mainz City Management e.V. - ECPv6.15.17.1//NONSGML v1.0//EN
CALSCALE:GREGORIAN
METHOD:PUBLISH
X-ORIGINAL-URL:https://innenstadt-mainz.de
X-WR-CALDESC:Veranstaltungen für Mainz City Management e.V.
REFRESH-INTERVAL;VALUE=DURATION:PT1H
X-Robots-Tag:noindex
X-PUBLISHED-TTL:PT1H
BEGIN:VTIMEZONE
TZID:Europe/Berlin
BEGIN:DAYLIGHT
TZOFFSETFROM:+0100
TZOFFSETTO:+0200
TZNAME:CEST
DTSTART:20230326T010000
END:DAYLIGHT
BEGIN:STANDARD
TZOFFSETFROM:+0200
TZOFFSETTO:+0100
TZNAME:CET
DTSTART:20231029T010000
END:STANDARD
BEGIN:DAYLIGHT
TZOFFSETFROM:+0100
TZOFFSETTO:+0200
TZNAME:CEST
DTSTART:20240331T010000
END:DAYLIGHT
BEGIN:STANDARD
TZOFFSETFROM:+0200
TZOFFSETTO:+0100
TZNAME:CET
DTSTART:20241027T010000
END:STANDARD
BEGIN:DAYLIGHT
TZOFFSETFROM:+0100
TZOFFSETTO:+0200
TZNAME:CEST
DTSTART:20250330T010000
END:DAYLIGHT
BEGIN:STANDARD
TZOFFSETFROM:+0200
TZOFFSETTO:+0100
TZNAME:CET
DTSTART:20251026T010000
END:STANDARD
BEGIN:DAYLIGHT
TZOFFSETFROM:+0100
TZOFFSETTO:+0200
TZNAME:CEST
DTSTART:20260329T010000
END:DAYLIGHT
BEGIN:STANDARD
TZOFFSETFROM:+0200
TZOFFSETTO:+0100
TZNAME:CET
DTSTART:20261025T010000
END:STANDARD
END:VTIMEZONE
BEGIN:VEVENT
DTSTART;VALUE=DATE:20250510
DTEND;VALUE=DATE:20250511
DTSTAMP:20260425T231749
CREATED:20250219T153852Z
LAST-MODIFIED:20250221T093932Z
UID:3443-1746835200-1746921599@innenstadt-mainz.de
SUMMARY:Krempelmarkt der Geschäfte
DESCRIPTION:Großer Krempelmarkt in der Mainzer Altstadt! \nAm Samstag\, 10.05.2025\, findet wieder der beliebte Krempelmarkt in der Mainzer Altstadt statt. Zahlreiche Geschäfte bieten eine Vielzahl an Produkten zu besonderen Preisen an. \nKommen Sie vorbei\, stöbern Sie nach tollen Angeboten und lassen Sie sich überraschen! \n📍 Mainzer Altstadt – Seid dabei!
URL:https://innenstadt-mainz.de/event/krempelmarkt-der-geschaefte/
LOCATION:Mainzer Innenstadt
CATEGORIES:Krempelmarkt
ATTACH;FMTTYPE=image/webp:https://innenstadt-mainz.de/wp-content/uploads/2025/02/Krempelmarkt.webp
END:VEVENT
BEGIN:VEVENT
DTSTART;VALUE=DATE:20250427
DTEND;VALUE=DATE:20250428
DTSTAMP:20260425T231749
CREATED:20250205T110730Z
LAST-MODIFIED:20250220T155129Z
UID:2350-1745712000-1745798399@innenstadt-mainz.de
SUMMARY:Frühlingssonntag / Mobilitätssonntag
DESCRIPTION:
URL:https://innenstadt-mainz.de/event/fruehlingssonntag-mobilitaetssonntag/
LOCATION:Mainzer Innenstadt
CATEGORIES:Verkaufsoffener Sontag
ATTACH;FMTTYPE=image/png:https://innenstadt-mainz.de/wp-content/uploads/2024/12/2.png
END:VEVENT
BEGIN:VEVENT
DTSTART;TZID=Europe/Berlin:20250410T123000
DTEND;TZID=Europe/Berlin:20250410T140000
DTSTAMP:20260425T231749
CREATED:20250402T090939Z
LAST-MODIFIED:20250402T091207Z
UID:3849-1744288200-1744293600@innenstadt-mainz.de
SUMMARY:Unser Mainz in Rheinhessen e.V.  "Offenes Treffen" / Café Wallenstein Schillerplatz MZ
DESCRIPTION:
URL:https://innenstadt-mainz.de/event/unser-mainz-in-rheinhessen-e-v-offenes-treffen-cafe-wallenstein-schillerplatz-1230-uhr/
END:VEVENT
BEGIN:VEVENT
DTSTART;TZID=Europe/Berlin:20240703T083000
DTEND;TZID=Europe/Berlin:20241231T100000
DTSTAMP:20260425T231749
CREATED:20240627T125536Z
LAST-MODIFIED:20240627T125536Z
UID:2183-1719995400-1735639200@innenstadt-mainz.de
SUMMARY:Netzwerk City Frühstück – jeden ersten Mittwoch im Monat
DESCRIPTION:“Der gute Morgen: Netzwerk-City-Frühstück” im Juli\nAn die  Unternehmer:innen der Mainzer Innenstadt!\nWir freuen uns auf das kommende „Netzwerk-City-Frühstück”: \nAm Mittwoch\, 03.07.2024\, um 8.30 Uhr. \nThema: Straßenreinigung in der Innenstadt \nWir sprechen mit Carina Beck\, Werksleiterin der Stadtreinigung\, über die Abläufe und Herausforderungen bei der Stadtreinigung\, in einer Stadt\, die gerne viele Feste feiert. \nNutzen Sie die Gelegenheit dieser lockeren Gesprächsplattform zum Austausch und zur Kontaktaufnahme mit anderen Betrieben\, oder auch\, um Ihre Anliegen direkt anzusprechen. \nWir freuen uns über Ihre Anmeldung zur besseren Planung! \nDer Eigenanteil beträgt 5\,- €. \nMelden Sie sich an\, mailen Sie Fragen und erhalten Sie den Ort der Veranstaltung über: \ninfo@innenstadt-mainz.de \nWir freuen uns auf einen regen Austausch! \nWeitere Infos City-Frühstück \nNehmen Sie an den regelmäßigen Treffen teil und sprechen Sie mit anderen Betrieben der Mainzer Innenstadt über Ihre Ideen\, Projekte oder Aktionen. Ebenfalls können Sie auch Probleme\, Kritik oder Verbesserungsvorschläge bei den Initiator:innen anbringen. \nDie Werbegemeinschaft Mainz e.V.\, Mainz City Management e.V. und die Wirtschaftsförderung der Landeshauptstadt Mainz freuen sich auf Ihren Beitrag. \nEckdaten \nJeden ersten Mittwoch im Monat von Februar bis November / 8.30 Uhr – 10.00 Uhr\nACHTUNG: Sommerpause – Kein NCF im AUGUST!
URL:https://innenstadt-mainz.de/event/netzwerk-city-fruehstueck-jeden-ersten-mittwoch-im-monat/
CATEGORIES:Event
ATTACH;FMTTYPE=image/png:https://innenstadt-mainz.de/wp-content/uploads/2024/06/Netzwerk-City-Fruehstueck.png
END:VEVENT
END:VCALENDAR