BEGIN:VCALENDAR
VERSION:2.0
PRODID:-//Mainz City Management e.V. - ECPv6.15.17.1//NONSGML v1.0//EN
CALSCALE:GREGORIAN
METHOD:PUBLISH
X-WR-CALNAME:Mainz City Management e.V.
X-ORIGINAL-URL:https://innenstadt-mainz.de
X-WR-CALDESC:Veranstaltungen für Mainz City Management e.V.
REFRESH-INTERVAL;VALUE=DURATION:PT1H
X-Robots-Tag:noindex
X-PUBLISHED-TTL:PT1H
BEGIN:VTIMEZONE
TZID:Europe/Berlin
BEGIN:DAYLIGHT
TZOFFSETFROM:+0100
TZOFFSETTO:+0200
TZNAME:CEST
DTSTART:20250330T010000
END:DAYLIGHT
BEGIN:STANDARD
TZOFFSETFROM:+0200
TZOFFSETTO:+0100
TZNAME:CET
DTSTART:20251026T010000
END:STANDARD
BEGIN:DAYLIGHT
TZOFFSETFROM:+0100
TZOFFSETTO:+0200
TZNAME:CEST
DTSTART:20260329T010000
END:DAYLIGHT
BEGIN:STANDARD
TZOFFSETFROM:+0200
TZOFFSETTO:+0100
TZNAME:CET
DTSTART:20261025T010000
END:STANDARD
BEGIN:DAYLIGHT
TZOFFSETFROM:+0100
TZOFFSETTO:+0200
TZNAME:CEST
DTSTART:20270328T010000
END:DAYLIGHT
BEGIN:STANDARD
TZOFFSETFROM:+0200
TZOFFSETTO:+0100
TZNAME:CET
DTSTART:20271031T010000
END:STANDARD
END:VTIMEZONE
BEGIN:VEVENT
DTSTART;VALUE=DATE:20261025
DTEND;VALUE=DATE:20261026
DTSTAMP:20260426T055824
CREATED:20250211T131024Z
LAST-MODIFIED:20260205T090055Z
UID:2574-1792886400-1792972799@innenstadt-mainz.de
SUMMARY:Mantelsonntag
DESCRIPTION:Mantelsonntag Mainz – 25. Oktober 2026\nAm Sonntag\, den 25. Oktober 2026\, findet in der Mainzer Innenstadt der traditionelle Mantelsonntag statt. Das beliebte Herbstevent steht ganz im Zeichen von Mode\, Einkaufserlebnis und lebendiger Innenstadt und lädt Besucherinnen und Besucher zum entspannten Bummeln ein. \nDer Mantelsonntag in Mainz ist der ideale Anlass\, um sich auf die kältere Jahreszeit vorzubereiten. Zahlreiche Geschäfte präsentieren ihre Herbst- und Winterkollektionen\, darunter Mäntel\, Jacken\, Accessoires und saisonale Trends. Persönliche Beratung\, hochwertige Produkte und das besondere Flair des stationären Handels machen diesen Einkaufssonntag zu einem festen Termin im Mainzer Veranstaltungskalender. \nNeben dem Einkaufserlebnis profitieren Gäste von der vielfältigen Gastronomie in Mainz. Cafés\, Restaurants und Weinbars laden zum Verweilen ein und runden den Tag in der Innenstadt kulinarisch ab. \nDer Mantelsonntag 2026 verbindet Shopping\, Stadtleben und herbstliche Atmosphäre und richtet sich an alle\, die regional einkaufen und die Mainzer Innenstadt aktiv erleben möchten.
URL:https://innenstadt-mainz.de/event/mantelsonntag/
LOCATION:Mainzer Innenstadt
CATEGORIES:Frühlingssonntag
END:VEVENT
END:VCALENDAR